BEGIN:VCALENDAR
VERSION:2.0
PRODID:-//Fort Thunder Storage - ECPv6.15.20//NONSGML v1.0//EN
CALSCALE:GREGORIAN
METHOD:PUBLISH
X-WR-CALNAME:Fort Thunder Storage
X-ORIGINAL-URL:https://fortthunderstorage.com
X-WR-CALDESC:Events for Fort Thunder Storage
REFRESH-INTERVAL;VALUE=DURATION:PT1H
X-Robots-Tag:noindex
X-PUBLISHED-TTL:PT1H
BEGIN:VTIMEZONE
TZID:America/Chicago
BEGIN:DAYLIGHT
TZOFFSETFROM:-0600
TZOFFSETTO:-0500
TZNAME:CDT
DTSTART:20220313T080000
END:DAYLIGHT
BEGIN:STANDARD
TZOFFSETFROM:-0500
TZOFFSETTO:-0600
TZNAME:CST
DTSTART:20221106T070000
END:STANDARD
BEGIN:DAYLIGHT
TZOFFSETFROM:-0600
TZOFFSETTO:-0500
TZNAME:CDT
DTSTART:20230312T080000
END:DAYLIGHT
BEGIN:STANDARD
TZOFFSETFROM:-0500
TZOFFSETTO:-0600
TZNAME:CST
DTSTART:20231105T070000
END:STANDARD
BEGIN:DAYLIGHT
TZOFFSETFROM:-0600
TZOFFSETTO:-0500
TZNAME:CDT
DTSTART:20240310T080000
END:DAYLIGHT
BEGIN:STANDARD
TZOFFSETFROM:-0500
TZOFFSETTO:-0600
TZNAME:CST
DTSTART:20241103T070000
END:STANDARD
END:VTIMEZONE
BEGIN:VTIMEZONE
TZID:UTC
BEGIN:STANDARD
TZOFFSETFROM:+0000
TZOFFSETTO:+0000
TZNAME:UTC
DTSTART:20220101T000000
END:STANDARD
END:VTIMEZONE
BEGIN:VEVENT
DTSTART;TZID=America/Chicago:20230917T110000
DTEND;TZID=America/Chicago:20230917T150000
DTSTAMP:20260424T222707
CREATED:20230407T155451Z
LAST-MODIFIED:20230820T162536Z
UID:698-1694948400-1694962800@fortthunderstorage.com
SUMMARY:2023-2024 Fall Drop Off Slot #2
DESCRIPTION:
URL:https://fortthunderstorage.com/reservation/2023-2024-fall-drop-off-slot-3/
LOCATION:Fort Thunder Storage\, 42567 Fort Thunder Rd.\, Perham\, 56573\, United States
CATEGORIES:2023-2024 Fall Drop Off
END:VEVENT
BEGIN:VEVENT
DTSTART;TZID=UTC:20230916T090000
DTEND;TZID=UTC:20230916T150000
DTSTAMP:20260424T222707
CREATED:20220716T003042Z
LAST-MODIFIED:20230820T162525Z
UID:136-1694854800-1694876400@fortthunderstorage.com
SUMMARY:2023-2024 Fall Drop-Off Slot #1
DESCRIPTION:
URL:https://fortthunderstorage.com/reservation/2023-2024-fall-drop-off-slot-2/
LOCATION:Fort Thunder Storage\, 42567 Fort Thunder Rd.\, Perham\, 56573\, United States
CATEGORIES:2023-2024 Fall Drop Off
END:VEVENT
BEGIN:VEVENT
DTSTART;VALUE=DATE:20230912
DTEND;VALUE=DATE:20231031
DTSTAMP:20260424T222707
CREATED:20221002T153548Z
LAST-MODIFIED:20230819T125110Z
UID:669-1694476800-1698710399@fortthunderstorage.com
SUMMARY:2023-2024 Drop-Off By Appointment
DESCRIPTION:
URL:https://fortthunderstorage.com/reservation/drop-off-by-appointment/
LOCATION:Fort Thunder Storage\, 42567 Fort Thunder Rd.\, Perham\, 56573\, United States
CATEGORIES:2023-2024 Fall Drop Off
END:VEVENT
END:VCALENDAR