BEGIN:VCALENDAR
VERSION:2.0
PRODID:-//Fort Thunder Storage - ECPv6.15.20//NONSGML v1.0//EN
CALSCALE:GREGORIAN
METHOD:PUBLISH
X-WR-CALNAME:Fort Thunder Storage
X-ORIGINAL-URL:https://fortthunderstorage.com
X-WR-CALDESC:Events for Fort Thunder Storage
REFRESH-INTERVAL;VALUE=DURATION:PT1H
X-Robots-Tag:noindex
X-PUBLISHED-TTL:PT1H
BEGIN:VTIMEZONE
TZID:America/Chicago
BEGIN:DAYLIGHT
TZOFFSETFROM:-0600
TZOFFSETTO:-0500
TZNAME:CDT
DTSTART:20230312T080000
END:DAYLIGHT
BEGIN:STANDARD
TZOFFSETFROM:-0500
TZOFFSETTO:-0600
TZNAME:CST
DTSTART:20231105T070000
END:STANDARD
BEGIN:DAYLIGHT
TZOFFSETFROM:-0600
TZOFFSETTO:-0500
TZNAME:CDT
DTSTART:20240310T080000
END:DAYLIGHT
BEGIN:STANDARD
TZOFFSETFROM:-0500
TZOFFSETTO:-0600
TZNAME:CST
DTSTART:20241103T070000
END:STANDARD
BEGIN:DAYLIGHT
TZOFFSETFROM:-0600
TZOFFSETTO:-0500
TZNAME:CDT
DTSTART:20250309T080000
END:DAYLIGHT
BEGIN:STANDARD
TZOFFSETFROM:-0500
TZOFFSETTO:-0600
TZNAME:CST
DTSTART:20251102T070000
END:STANDARD
END:VTIMEZONE
BEGIN:VEVENT
DTSTART;TZID=America/Chicago:20241026T090000
DTEND;TZID=America/Chicago:20241026T120000
DTSTAMP:20260424T205146
CREATED:20240812T030843Z
LAST-MODIFIED:20240812T033002Z
UID:1136-1729933200-1729944000@fortthunderstorage.com
SUMMARY:2024 Fall Drop Off Slot #5
DESCRIPTION:A move in pass must be purchased in order to reserve your storage space. Items that are dropped off without a ticket or outside of your scheduled date may be charged a $75 service fee.
URL:https://fortthunderstorage.com/reservation/2024-2025-fall-drop-off-slot-5/
LOCATION:Fort Thunder Storage\, 42567 Fort Thunder Rd.\, Perham\, 56573\, United States
CATEGORIES:Winter Storage 2024-2025
END:VEVENT
BEGIN:VEVENT
DTSTART;TZID=America/Chicago:20241012T090000
DTEND;TZID=America/Chicago:20241012T120000
DTSTAMP:20260424T205146
CREATED:20240812T030540Z
LAST-MODIFIED:20240812T032946Z
UID:1133-1728723600-1728734400@fortthunderstorage.com
SUMMARY:2024 Fall Drop Off Slot #4
DESCRIPTION:A move in pass must be purchased in order to reserve your storage space. Items that are dropped off without a ticket or outside of your scheduled date may be charged a $75 service fee.
URL:https://fortthunderstorage.com/reservation/2024-2025-fall-drop-off-slot-4/
LOCATION:Fort Thunder Storage\, 42567 Fort Thunder Rd.\, Perham\, 56573\, United States
CATEGORIES:Winter Storage 2024-2025
END:VEVENT
BEGIN:VEVENT
DTSTART;TZID=America/Chicago:20240929T110000
DTEND;TZID=America/Chicago:20240929T140000
DTSTAMP:20260424T205146
CREATED:20240812T030223Z
LAST-MODIFIED:20240812T032932Z
UID:1130-1727607600-1727618400@fortthunderstorage.com
SUMMARY:2024 Fall Drop Off Slot #3
DESCRIPTION:A move in pass must be purchased in order to reserve your storage space. Items that are dropped off without a ticket or outside of your scheduled date may be charged a $75 service fee.
URL:https://fortthunderstorage.com/reservation/2024-2025-fall-drop-off-slot-3-2/
LOCATION:Fort Thunder Storage\, 42567 Fort Thunder Rd.\, Perham\, 56573\, United States
CATEGORIES:Winter Storage 2024-2025
END:VEVENT
BEGIN:VEVENT
DTSTART;TZID=America/Chicago:20240928T090000
DTEND;TZID=America/Chicago:20240928T120000
DTSTAMP:20260424T205146
CREATED:20240812T025653Z
LAST-MODIFIED:20240812T032919Z
UID:1126-1727514000-1727524800@fortthunderstorage.com
SUMMARY:2024 Fall Drop-Off Slot #2
DESCRIPTION:A move in pass must be purchased in order to reserve your storage space. Items that are dropped off without a ticket or outside of your scheduled date may be charged a $75 service fee.
URL:https://fortthunderstorage.com/reservation/2024-2025-fall-drop-off-slot-3/
LOCATION:Fort Thunder Storage\, 42567 Fort Thunder Rd.\, Perham\, 56573\, United States
CATEGORIES:Winter Storage 2024-2025
END:VEVENT
BEGIN:VEVENT
DTSTART;TZID=America/Chicago:20240921T090000
DTEND;TZID=America/Chicago:20240921T120000
DTSTAMP:20260424T205146
CREATED:20240812T023156Z
LAST-MODIFIED:20240812T032904Z
UID:1117-1726909200-1726920000@fortthunderstorage.com
SUMMARY:2024 Fall Drop-Off Slot #1
DESCRIPTION:A move in pass must be purchased in order to reserve your storage space. Items that are dropped off without a ticket or outside of your scheduled date may be charged a $75 service fee.
URL:https://fortthunderstorage.com/reservation/2024-2025-fall-drop-off-slot-1/
LOCATION:Fort Thunder Storage\, 42567 Fort Thunder Rd.\, Perham\, 56573\, United States
CATEGORIES:Winter Storage 2024-2025
END:VEVENT
END:VCALENDAR